BEGIN:VCALENDAR
VERSION:2.0
PRODID:-//ChamberMaster//Event Calendar 2.0//EN
METHOD:PUBLISH
X-PUBLISHED-TTL:P3D
REFRESH-INTERVAL:P3D
CALSCALE:GREGORIAN
BEGIN:VEVENT
DTSTART:20210811T160000Z
DTEND:20210811T170000Z
X-MICROSOFT-CDO-ALLDAYEVENT:FALSE
SUMMARY:1099 Ladies No Cost Networking - Apex Chapter (Summer Schedule Meeting 2nd and 4th Wednesday via Zoom)
DESCRIPTION:Non seat-specific ladies networking meeting open to all female entrepreneurs\, business owners\, employees\, visionaries\, etc.
X-ALT-DESC;FMTTYPE=text/html:Non seat-specific ladies networking meeting open to all female entrepreneurs\, business owners\, employees\, visionaries\, etc.
LOCATION:Zoom https://us02web.zoom.us/j/872194136...
UID:e.502.9343
SEQUENCE:3
DTSTAMP:20260426T003529Z
URL:https://business.apexchamber.com/events/details/1099-ladies-no-cost-networking-apex-chapter-summer-schedule-meeting-2nd-and-4th-wednesday-via-zoom-08-11-2021-9343
END:VEVENT

END:VCALENDAR
