BEGIN:VCALENDAR
VERSION:2.0
PRODID:-//ChamberMaster//Event Calendar 2.0//EN
METHOD:PUBLISH
X-PUBLISHED-TTL:P3D
REFRESH-INTERVAL:P3D
CALSCALE:GREGORIAN
BEGIN:VEVENT
DTSTART:20171023T224500Z
DTEND:20171024T010000Z
X-MICROSOFT-CDO-ALLDAYEVENT:FALSE
SUMMARY:2017 Candidates Forum
DESCRIPTION:Join us for the 2017 Candidates Forum!\n\nSeating is limited\, so registration is required.
X-ALT-DESC;FMTTYPE=text/html:Join us for the 2017 Candidates Forum!<br />\nSeating is limited\, so registration is required.
LOCATION:Town Hall 73 Hunter Street Apex\, NC 27502
UID:e.502.4985
SEQUENCE:3
DTSTAMP:20260424T075127Z
URL:https://business.apexchamber.com/events/details/2017-candidates-forum-4985
END:VEVENT

END:VCALENDAR
