BEGIN:VCALENDAR
VERSION:2.0
PRODID:-//ChamberMaster//Event Calendar 2.0//EN
METHOD:PUBLISH
X-PUBLISHED-TTL:P3D
REFRESH-INTERVAL:P3D
CALSCALE:GREGORIAN
BEGIN:VEVENT
DTSTART:20220502T130000Z
DTEND:20220516T210000Z
X-MICROSOFT-CDO-ALLDAYEVENT:FALSE
SUMMARY:Ad Opportunity for June 2022 Apex Utility Mailer Insert
DESCRIPTION:Registration is now open for the June 2022 Apex Utility Mailer!\n\nThe Apex Chamber of Commerce is pleased to announce that we are sponsoring an insert in the town monthly utility bill targeted for June 2022. This utility flyer will reach approximately 20\,000 Apex homes via mail or paperless e-billing in pdf format!\n\n\n\nWe are going to start with a one-sided insert.  If interest is great enough\, we will expand to a two-sided insert.  The insert will be an 8.5x11 colored sheet of paper using black print.\n\nThe deadline for submission is Monday\, May 16\, 2022.\n\nBusinesses must provide:\n\n	Art work for Ad - may submit by emailing to nclay@apexchamber.com (jpeg\, or png file)\n	Business logo (Optional)\n	Promo Code (Optional)\n	Applicable fee - pay online only by clicking on Register Now \n\n    \n\nThe mailer requires a minimum number of listings.  \n\n\n	If we do not reach the minimum number required to cover our costs by May 16th\, we will refund fees\n	Space is only available to the businesses who submit all required information and fees on a first-come\, first-served basis\n	Placement of listings on the mailer will be in no particular order\n	All listings must be physically located in Apex and listings should not be targeted to an event but rather a business.\n\n  If you are interested in participating\, please click on the Register Now button above and sign up as a member or non-member of the Apex Chamber. By registering here\, you can secure your spot by paying online.
X-ALT-DESC;FMTTYPE=text/html:<span style="font-family: arial\; font-size: 16px\; color: rgb(0\, 0\, 0)\;">Registration is now open for the June 2022 Apex Utility Mailer!</span><br />\n<font color="#000000" face="arial"><span style="font-size: 16px\;">The Apex Chamber of Commerce is pleased to announce that we are sponsoring an insert in the town monthly utility bill targeted for June 2022. This utility flyer will reach approximately&nbsp\;20\,000 Apex homes via mail or paperless e-billing in pdf format!</span></font><br />\n<br />\n<font color="#000000" face="arial"><span style="font-size: 16px\;">We are going to start with a one-sided insert.&nbsp\; If interest is great enough\, we will expand to a two-sided insert.&nbsp\; The insert will be an 8.5x11 colored sheet of paper using black print.</span></font><br />\n<font color="#000000" face="arial"><span style="font-size: 16px\;">The deadline for submission is Monday\, May 16\, 2022.</span></font><br />\n<font color="#000000" face="arial"><span style="font-size: 16px\;">Businesses must provide:</span></font>\n<ol>\n	<li style="font-style: normal\; font-weight: normal\;"><span style="font-family:arial\;"><span style="font-size:16px\;"><span style="color:#000000\;">Art work for Ad - may submit by emailing to nclay@apexchamber.com</span><span style="color:#000000\;">&nbsp\;(jpeg\, or png file)</span></span></span></li>\n	<li style="color: rgb(0\, 0\, 0)\; font-family: Calibri\,sans-serif\; font-size: 11pt\; font-style: normal\; font-weight: normal\;"><span style="color:#000000\;"><span style="font-family:arial\;"><span style="font-size:16px\;">Business logo (Optional)</span></span></span></li>\n	<li style="color: rgb(0\, 0\, 0)\; font-family: Calibri\,sans-serif\; font-size: 11pt\; font-style: normal\; font-weight: normal\;"><span style="color:#000000\;"><span style="font-family:arial\;"><span style="font-size:16px\;">Promo Code (Optional)</span></span></span></li>\n	<li style="color: rgb(0\, 0\, 0)\; font-family: Calibri\,sans-serif\; font-size: 11pt\; font-style: normal\; font-weight: normal\;"><span style="color:#000000\;"><span style="font-family:arial\;"><span style="font-size:16px\;">Applicable fee - pay online only by clicking&nbsp\;on Register Now </span></span></span></li>\n</ol>\n<span style="color:#000000\;"> <span style="font-family:arial\;"> <span style="font-size:16px\;"> &nbsp\;<br />\nThe mailer requires a minimum number of listings.&nbsp\; </span></span></span>\n\n<ul>\n	<li style="font-style: normal\; font-weight: normal\;"><span style="color:#000000\;"><span style="font-family:arial\;"><span style="font-size:16px\;">If we do not reach the minimum number required to cover our costs by May 16th\, we will refund fees</span></span></span></li>\n	<li style="color: rgb(0\, 0\, 0)\; font-family: Calibri\,sans-serif\; font-size: 11pt\; font-style: normal\; font-weight: normal\;"><span style="color:#000000\;"><span style="font-family:arial\;"><span style="font-size:16px\;">Space is only available to the businesses who submit all required information and fees on a first-come\, first-served basis</span></span></span></li>\n	<li style="color: rgb(0\, 0\, 0)\; font-family: Calibri\,sans-serif\; font-size: 11pt\; font-style: normal\; font-weight: normal\;"><span style="color:#000000\;"><span style="font-family:arial\;"><span style="font-size:16px\;">Placement of listings on the mailer will be in no particular order</span></span></span></li>\n	<li style="color: rgb(0\, 0\, 0)\; font-family: Calibri\,sans-serif\; font-size: 11pt\; font-style: normal\; font-weight: normal\;"><span style="font-family:arial\;"><span style="font-size:16px\;"><span style="color: rgb(255\, 0\, 0)\;"><em>All listings must be physically located in Apex and listings should not be targeted to an event&nbsp\;but rather a business.</em></span></span></span></li>\n</ul>\n<span style="color:#000000\;"><span style="font-family:arial\;"> <span style="font-size:16px\;"> If you are interested in participating\, please click on the <strong>Register Now </strong>button above and sign up as a member or non-member of the Apex Chamber. By registering here\, you can secure your spot by paying online.</span></span></span>
LOCATION:
UID:e.502.9736
SEQUENCE:3
DTSTAMP:20260420T112351Z
URL:https://business.apexchamber.com/events/details/ad-opportunity-for-june-2022-apex-utility-mailer-insert-9736
END:VEVENT

END:VCALENDAR
