BEGIN:VCALENDAR
VERSION:2.0
PRODID:-//ChamberMaster//Event Calendar 2.0//EN
METHOD:PUBLISH
X-PUBLISHED-TTL:P3D
REFRESH-INTERVAL:P3D
CALSCALE:GREGORIAN
BEGIN:VEVENT
DTSTART;VALUE=DATE:20170717
DTEND;VALUE=DATE:20170805
TRANSP:TRANSPARENT
X-MICROSOFT-CDO-ALLDAYEVENT:TRUE
SUMMARY:Ad Opportunity for September 2017 Utility Mailer Insert
DESCRIPTION:REGISTRATION FOR THIS UTILITY MAILER HAS CLOSED DUE TO BEING FULL\n\n\n\nThe Apex Chamber of Commerce is pleased to announce that we are sponsoring an insert in the town monthly utility bill targeted for September 2017.  The utility bill reaches an estimated 17\,000 Apex customers every month.\n\nWe are going to start with a one-sided insert.  If interest is great enough\, we will expand to a two-sided insert.  The insert will be an 8.5x11 colored sheet of paper using black print.\n\nThe deadline for submission is August 4th.\n\nBusinesses must provide:\n\n	Art work for Ad - may submit by emailing to bbelicic@apexchamber.com (jpeg\, pdf\, or png file)\n	Business logo (Optional)\n	Promo Code (Optional)\n	Applicable fee - able to pay online by clicking on Register Now \n\n    \n\nThe mailer requires a minimum number of listings.  \n\n\n	If we do not reach the minimum number required to cover our costs by August 4th\, we will refund fees\n	Space is only available to the businesses who submit all required information and fees on a first-come\, first-served basis\n	Placement of listings on the mailer will be in no particular order\n	All listings must be physically located in Apex and listings should not be targeted to an event   but rather a business.\n\n  If you are interested in participating\, please click on the Register Now button above and sign up as a member or non-member of the Apex Chamber. By registering here\, you can either choose to pay with a credit card online or request an invoice.
X-ALT-DESC;FMTTYPE=text/html:<span style="font-family:arial\;"><span style="font-size:16px\;"><span style="color:#FF0000\;">REGISTRATION FOR THIS UTILITY MAILER HAS CLOSED DUE TO BEING FULL</span><br />\n<br />\n<span style="color:#000000\;">The Apex Chamber of Commerce is pleased to announce that we are sponsoring an insert in the town monthly utility bill targeted for <strong><u>September 2017</u></strong>.&nbsp\; The utility bill reaches an estimated 17\,000 Apex customers every month.</span><br />\n<span style="color:#000000\;">We are going to start with a one-sided insert.&nbsp\; If interest is great enough\, we will expand to a two-sided insert.&nbsp\; The insert will be an 8.5x11 colored sheet of paper using black print.<br />\nThe deadline for submission is <strong><u>August 4th</u></strong>.<br />\nBusinesses must provide:</span></span></span>\n<ol>\n	<li style="font-style: normal\; font-weight: normal\;"><span style="font-family:arial\;"><span style="font-size:16px\;"><span style="color:#000000\;">Art work for Ad - may submit by emailing to </span><a href="mailto:bbelicic@apexchamber.com"><span style="color:#000000\;">bbelicic@apexchamber.com</span></a><span style="color:#000000\;">&nbsp\;(jpeg\, pdf\, or png file)</span></span></span></li>\n	<li style="color: rgb(0\, 0\, 0)\; font-family: Calibri\,sans-serif\; font-size: 11pt\; font-style: normal\; font-weight: normal\;"><span style="color:#000000\;"><span style="font-family:arial\;"><span style="font-size:16px\;">Business logo (Optional)</span></span></span></li>\n	<li style="color: rgb(0\, 0\, 0)\; font-family: Calibri\,sans-serif\; font-size: 11pt\; font-style: normal\; font-weight: normal\;"><span style="color:#000000\;"><span style="font-family:arial\;"><span style="font-size:16px\;">Promo Code (Optional)</span></span></span></li>\n	<li style="color: rgb(0\, 0\, 0)\; font-family: Calibri\,sans-serif\; font-size: 11pt\; font-style: normal\; font-weight: normal\;"><span style="color:#000000\;"><span style="font-family:arial\;"><span style="font-size:16px\;">Applicable fee - able to pay online by clicking&nbsp\;on Register Now </span></span></span></li>\n</ol>\n<span style="color:#000000\;"> <span style="font-family:arial\;"> <span style="font-size:16px\;"> &nbsp\;<br />\nThe mailer requires a minimum number of listings.&nbsp\; </span></span></span>\n\n<ul>\n	<li style="font-style: normal\; font-weight: normal\;"><span style="color:#000000\;"><span style="font-family:arial\;"><span style="font-size:16px\;">If we do not reach the minimum number required to cover our costs by <u>August 4th</u>\, we will refund fees</span></span></span></li>\n	<li style="color: rgb(0\, 0\, 0)\; font-family: Calibri\,sans-serif\; font-size: 11pt\; font-style: normal\; font-weight: normal\;"><span style="font-family:arial\;"><span style="font-size:16px\;"><span style="color: rgb(255\, 0\, 0)\;">Space is only available to the businesses who submit all required information and fees on a first-come\, first-served basis</span></span></span></li>\n	<li style="color: rgb(0\, 0\, 0)\; font-family: Calibri\,sans-serif\; font-size: 11pt\; font-style: normal\; font-weight: normal\;"><span style="font-family:arial\;"><span style="font-size:16px\;"><span style="color: rgb(255\, 0\, 0)\;">Placement of listings on the mailer will be in no particular order</span></span></span></li>\n	<li style="color: rgb(0\, 0\, 0)\; font-family: Calibri\,sans-serif\; font-size: 11pt\; font-style: normal\; font-weight: normal\;"><span style="font-family:arial\;"><span style="font-size:16px\;"><span style="color: rgb(255\, 0\, 0)\;"><em>All listings must be physically located in Apex and listings should not be targeted to an event &ndash\; but rather a business.</em></span></span></span></li>\n</ul>\n<span style="color:#000000\;"><span style="font-family:arial\;"> <span style="font-size:16px\;"> If you are interested in participating\, please click on the <strong>Register Now </strong>button above and sign up as a member or non-member of the Apex Chamber. By registering here\, you can either choose to pay with a credit card online or request an invoice.</span></span></span>
LOCATION:
UID:e.502.4517
SEQUENCE:3
DTSTAMP:20260426T020428Z
URL:https://business.apexchamber.com/events/details/ad-opportunity-for-september-2017-utility-mailer-insert-4517
END:VEVENT

END:VCALENDAR
