BEGIN:VCALENDAR
VERSION:2.0
PRODID:-//ChamberMaster//Event Calendar 2.0//EN
METHOD:PUBLISH
X-PUBLISHED-TTL:P3D
REFRESH-INTERVAL:P3D
CALSCALE:GREGORIAN
BEGIN:VEVENT
DTSTART:20171010T123000Z
DTEND:20171010T133000Z
X-MICROSOFT-CDO-ALLDAYEVENT:FALSE
SUMMARY:AM Networking sponsored by Apex Economic Development
DESCRIPTION:Join us for our October AM Networking sponsored by Apex Economic Development!
X-ALT-DESC;FMTTYPE=text/html:Join us for our October AM Networking sponsored by Apex Economic Development!
LOCATION:Town Hall - 3rd Floor 73 Hunter Street Apex\, NC 27502
UID:e.502.3032
SEQUENCE:3
DTSTAMP:20260424T154826Z
URL:https://business.apexchamber.com/events/details/am-networking-sponsored-by-apex-economic-development-3032
END:VEVENT

END:VCALENDAR
