BEGIN:VCALENDAR
VERSION:2.0
PRODID:-//ChamberMaster//Event Calendar 2.0//EN
METHOD:PUBLISH
X-PUBLISHED-TTL:P3D
REFRESH-INTERVAL:P3D
CALSCALE:GREGORIAN
BEGIN:VEVENT
DTSTART:20170307T133000Z
DTEND:20170307T150000Z
X-MICROSOFT-CDO-ALLDAYEVENT:FALSE
SUMMARY:AM Networking sponsored by Apex High School AOIT Program
DESCRIPTION:Join us for a morning of networking with with chamber members and guests sponsored by the Apex High School AOIT Program!
X-ALT-DESC;FMTTYPE=text/html:Join us for a morning of networking with with chamber members and guests sponsored by the Apex High School AOIT Program!
LOCATION:Apex High School 1501 Laura Duncan Road Apex\, NC 27502
UID:e.502.2961
SEQUENCE:3
DTSTAMP:20260425T162107Z
URL:https://business.apexchamber.com/events/details/am-networking-sponsored-by-apex-high-school-aoit-program-2961
END:VEVENT

END:VCALENDAR
