BEGIN:VCALENDAR
VERSION:2.0
PRODID:-//ChamberMaster//Event Calendar 2.0//EN
METHOD:PUBLISH
X-PUBLISHED-TTL:P3D
REFRESH-INTERVAL:P3D
CALSCALE:GREGORIAN
BEGIN:VEVENT
DTSTART:20171205T133000Z
DTEND:20171205T143000Z
X-MICROSOFT-CDO-ALLDAYEVENT:FALSE
SUMMARY:AM Networking sponsored by Costco
DESCRIPTION:Join us for AM Networking sponsored by Costco in Apex!
X-ALT-DESC;FMTTYPE=text/html:Join us for AM Networking sponsored by Costco in Apex!
LOCATION:Costco 1021 Pine Plaza Apex\, NC 27523
UID:e.502.3052
SEQUENCE:3
DTSTAMP:20260423T193610Z
URL:https://business.apexchamber.com/events/details/am-networking-sponsored-by-costco-3052
END:VEVENT

END:VCALENDAR
