BEGIN:VCALENDAR
VERSION:2.0
PRODID:-//ChamberMaster//Event Calendar 2.0//EN
METHOD:PUBLISH
X-PUBLISHED-TTL:P3D
REFRESH-INTERVAL:P3D
CALSCALE:GREGORIAN
BEGIN:VEVENT
DTSTART:20181204T133000Z
DTEND:20181204T143000Z
X-MICROSOFT-CDO-ALLDAYEVENT:FALSE
SUMMARY:AM Networking sponsored by Costco
DESCRIPTION:Join us for AM Networking sponsored by Costco!
X-ALT-DESC;FMTTYPE=text/html:Join us for AM Networking sponsored by Costco!
LOCATION:Costco 1021 Pine Plaza Drive Apex\, NC 27502
UID:e.502.5989
SEQUENCE:3
DTSTAMP:20260420T041317Z
URL:https://business.apexchamber.com/events/details/am-networking-sponsored-by-costco-5989
END:VEVENT

END:VCALENDAR
