BEGIN:VCALENDAR
VERSION:2.0
PRODID:-//ChamberMaster//Event Calendar 2.0//EN
METHOD:PUBLISH
X-PUBLISHED-TTL:P3D
REFRESH-INTERVAL:P3D
CALSCALE:GREGORIAN
BEGIN:VEVENT
DTSTART:20180508T123000Z
DTEND:20180508T133000Z
X-MICROSOFT-CDO-ALLDAYEVENT:FALSE
SUMMARY:AM Networking sponsored by KB Home
DESCRIPTION:Join us for our May AM Networking sponsored by KB Home!
X-ALT-DESC;FMTTYPE=text/html:<div>Join us for our May AM Networking sponsored by KB Home!</div>\n
LOCATION:1025 Straywhite Ave Apex\, NC 27502
UID:e.502.5077
SEQUENCE:3
DTSTAMP:20260421T080430Z
URL:https://business.apexchamber.com/events/details/am-networking-sponsored-by-kb-home-5077
END:VEVENT

END:VCALENDAR
