BEGIN:VCALENDAR
VERSION:2.0
PRODID:-//ChamberMaster//Event Calendar 2.0//EN
METHOD:PUBLISH
X-PUBLISHED-TTL:P3D
REFRESH-INTERVAL:P3D
CALSCALE:GREGORIAN
BEGIN:VEVENT
DTSTART:20170808T123000Z
DTEND:20170808T133000Z
X-MICROSOFT-CDO-ALLDAYEVENT:FALSE
SUMMARY:AM Networking sponsored by SunTrust
DESCRIPTION:Join us for AM Networking sponsored by SunTrust!
X-ALT-DESC;FMTTYPE=text/html:Join us for AM Networking sponsored by SunTrust!
LOCATION:Apex Chamber 220 N Salem Street Apex\, NC 27502
UID:e.502.3011
SEQUENCE:3
DTSTAMP:20260425T220300Z
URL:https://business.apexchamber.com/events/details/am-networking-sponsored-by-suntrust-3011
END:VEVENT

END:VCALENDAR
