BEGIN:VCALENDAR
VERSION:2.0
PRODID:-//ChamberMaster//Event Calendar 2.0//EN
METHOD:PUBLISH
X-PUBLISHED-TTL:P3D
REFRESH-INTERVAL:P3D
CALSCALE:GREGORIAN
BEGIN:VEVENT
DTSTART:20210826T123000Z
DTEND:20210826T133000Z
X-MICROSOFT-CDO-ALLDAYEVENT:FALSE
SUMMARY:Ambassador Committee Meeting
DESCRIPTION:Our Ambassador (Membership) Committee Meeting is every 4th Thursday each month from 8:30 am - 9:30 am\, unless there is a holiday conflict\, in which we will reschedule that meeting.
X-ALT-DESC;FMTTYPE=text/html:Our Ambassador (Membership) Committee Meeting is every 4th Thursday each month from 8:30 am - 9:30 am\, unless there is a holiday conflict\, in which we will reschedule that meeting.
LOCATION:Olive Chapel Professional Park - Conference Room 1480 Chapel Ridge Road Apex\, NC 27502
UID:e.502.7912
SEQUENCE:3
DTSTAMP:20260426T002522Z
URL:https://business.apexchamber.com/events/details/ambassador-committee-meeting-08-26-2021-7912
END:VEVENT

END:VCALENDAR
