BEGIN:VCALENDAR
VERSION:2.0
PRODID:-//ChamberMaster//Event Calendar 2.0//EN
METHOD:PUBLISH
X-PUBLISHED-TTL:P3D
REFRESH-INTERVAL:P3D
CALSCALE:GREGORIAN
BEGIN:VEVENT
DTSTART:20241015T130000Z
DTEND:20241015T140000Z
X-MICROSOFT-CDO-ALLDAYEVENT:FALSE
SUMMARY:Ambassador Info Meeting
DESCRIPTION:Come learn about our update Ambassador program! Assist in the growth\, retention and engagement of our Chamber members. Learn about our three different ways to serve: Being a VIV (Very Important Volunteer)\, joining the Connection Crew\, or acting as a Digital Influencer. We'll also go over the many benefits of being on the Ambassador Committee\, from exclusive exposure to free event tickets. Contact Amy for details!
X-ALT-DESC;FMTTYPE=text/html:Come learn about our update Ambassador program! Assist in the growth\, retention and engagement of our Chamber members. Learn about our three different ways to serve: Being a VIV (Very Important Volunteer)\, joining the Connection Crew\, or acting as a Digital Influencer. We&#39\;ll also go over the many benefits of being on the Ambassador Committee\, from exclusive exposure to free event tickets. Contact Amy for details!
LOCATION:Professional Restoration Services 2003 Schieffelin Road Apex\, NC
UID:e.502.11460
SEQUENCE:3
DTSTAMP:20260422T082340Z
URL:https://business.apexchamber.com/events/details/ambassador-info-meeting-11460
END:VEVENT

END:VCALENDAR
