BEGIN:VCALENDAR
VERSION:2.0
PRODID:-//ChamberMaster//Event Calendar 2.0//EN
METHOD:PUBLISH
X-PUBLISHED-TTL:P3D
REFRESH-INTERVAL:P3D
CALSCALE:GREGORIAN
BEGIN:VEVENT
DTSTART:20170803T122500Z
DTEND:20170803T133000Z
X-MICROSOFT-CDO-ALLDAYEVENT:FALSE
SUMMARY:Ambassador Meeting
DESCRIPTION:Monthly Ambassador Meeting meets every 1st Thursday each month.
X-ALT-DESC;FMTTYPE=text/html:Monthly Ambassador Meeting meets every 1st Thursday each month.
LOCATION:Apex Chamber Board Room 220 N Salem Street Apex\, NC 27502
UID:e.502.3258
SEQUENCE:3
DTSTAMP:20260426T000334Z
URL:https://business.apexchamber.com/events/details/ambassador-meeting-3258
END:VEVENT

END:VCALENDAR
