BEGIN:VCALENDAR
VERSION:2.0
PRODID:-//ChamberMaster//Event Calendar 2.0//EN
METHOD:PUBLISH
X-PUBLISHED-TTL:P3D
REFRESH-INTERVAL:P3D
CALSCALE:GREGORIAN
BEGIN:VEVENT
DTSTART:20221020T200000Z
DTEND:20221020T223000Z
X-MICROSOFT-CDO-ALLDAYEVENT:FALSE
SUMMARY:Apex Chamber Annual Meeting/Social!
DESCRIPTION:Please join us at our Annual Meeting/Social\, to celebrate another incredible year at the Apex Chamber\, Presented by our Sponsor\, Dell Technologies! This event will be a social and will take place on the outside patio at MacGregor Downs Country Club.  The space is covered by a tent to protect from any weather.\n\n\n\nWe look forward to celebrating with you and showing our appreciation to you all! Drinks and heavy hors d'oeuvres will be served.
X-ALT-DESC;FMTTYPE=text/html:Please join us at our Annual Meeting/Social\, to celebrate another incredible year at the Apex Chamber\, Presented by our Sponsor\, Dell Technologies! This event will be a social and will take place on the outside patio at MacGregor Downs Country Club.&nbsp\; The space is covered by a tent to protect from any weather.<br />\n<br />\nWe look forward to celebrating with you and showing our appreciation to you all! Drinks and heavy hors d&#39\;oeuvres will be served.
LOCATION:MacGregor Downs Country Club - Outdoor Patio 430 St Andrews Ln\, Cary\, NC 27511
UID:e.502.9786
SEQUENCE:3
DTSTAMP:20260425T012935Z
URL:https://business.apexchamber.com/events/details/apex-chamber-annual-meeting-social-9786
END:VEVENT

END:VCALENDAR
