BEGIN:VCALENDAR
VERSION:2.0
PRODID:-//ChamberMaster//Event Calendar 2.0//EN
METHOD:PUBLISH
X-PUBLISHED-TTL:P3D
REFRESH-INTERVAL:P3D
CALSCALE:GREGORIAN
BEGIN:VEVENT
DTSTART:20260326T120000Z
DTEND:20260326T130000Z
X-MICROSOFT-CDO-ALLDAYEVENT:FALSE
SUMMARY:Apex Intelligence: Leveraging AI for Small Business
DESCRIPTION:AI isn't the future\, it's happening now! Small businesses have a unique advantage: we're agile\, we understand our customers deeply\, and we can implement and iterate without corporate red tape. But tools alone aren't enough. Success requires knowing which AI solutions actually solve your problems\, how to use them strategically\, and how to stay human in an increasingly automated world.\n\n \n\nWhether you're running a solo venture\, managing a growing team\, or navigating the rapidly changing landscape of small business\, come join this community of forward-thinking owners ready to harness AI strategically. Together\, we'll share practical AI tools and strategies\, learn from each other's experiments and successes\, and build a supportive network that helps us all stay competitive in an AI-driven economy.\n\n\n\nSpringhill Suites Apex\n\n1100 Marco Drive\n\nApex\, NC 27502
X-ALT-DESC;FMTTYPE=text/html:<div class="x_elementToProof" data-ogsc="rgb(0\, 0\, 0)" data-olk-copy-source="MessageBody" style="border: 0px\; font-variant-numeric: inherit\; font-variant-east-asian: inherit\; font-variant-alternates: inherit\; font-variant-position: inherit\; font-variant-emoji: inherit\; font-stretch: inherit\; font-size: 12pt\; line-height: inherit\; font-family: Aptos\, Aptos_EmbeddedFont\, Aptos_MSFontService\, Calibri\, Helvetica\, sans-serif\; font-optical-sizing: inherit\; font-size-adjust: inherit\; font-kerning: inherit\; font-feature-settings: inherit\; font-variation-settings: inherit\; font-language-override: inherit\; margin: 0px\; padding: 0px\; vertical-align: baseline\; color: rgb(0\, 0\, 0) !important\;">AI isn&#39\;t the future\, it&#39\;s happening now! Small businesses have a unique advantage: we&#39\;re agile\, we understand our customers deeply\, and we can implement and iterate without corporate red tape. But tools alone aren&#39\;t enough. Success requires knowing which AI solutions actually solve your problems\, how to use them strategically\, and how to stay human in an increasingly automated world.</div>\n\n<div class="x_elementToProof" data-ogsc="rgb(0\, 0\, 0)" style="border: 0px\; font-variant-numeric: inherit\; font-variant-east-asian: inherit\; font-variant-alternates: inherit\; font-variant-position: inherit\; font-variant-emoji: inherit\; font-stretch: inherit\; font-size: 12pt\; line-height: inherit\; font-family: Aptos\, Aptos_EmbeddedFont\, Aptos_MSFontService\, Calibri\, Helvetica\, sans-serif\; font-optical-sizing: inherit\; font-size-adjust: inherit\; font-kerning: inherit\; font-feature-settings: inherit\; font-variation-settings: inherit\; font-language-override: inherit\; margin: 0px\; padding: 0px\; vertical-align: baseline\; direction: ltr\; color: rgb(0\, 0\, 0) !important\;">&nbsp\;</div>\n\n<div class="x_elementToProof" data-ogsc="rgb(0\, 0\, 0)" style="border: 0px\; font-variant-numeric: inherit\; font-variant-east-asian: inherit\; font-variant-alternates: inherit\; font-variant-position: inherit\; font-variant-emoji: inherit\; font-stretch: inherit\; font-size: 12pt\; line-height: inherit\; font-family: Aptos\, Aptos_EmbeddedFont\, Aptos_MSFontService\, Calibri\, Helvetica\, sans-serif\; font-optical-sizing: inherit\; font-size-adjust: inherit\; font-kerning: inherit\; font-feature-settings: inherit\; font-variation-settings: inherit\; font-language-override: inherit\; margin: 0px\; padding: 0px\; vertical-align: baseline\; color: rgb(0\, 0\, 0) !important\;">Whether you&#39\;re running a solo venture\, managing a growing team\, or navigating the rapidly changing landscape of small business\, come join this community of forward-thinking owners ready to harness AI strategically. Together\, we&#39\;ll share practical AI tools and strategies\, learn from each other&#39\;s experiments and successes\, and build a supportive network that helps us all stay competitive in an AI-driven economy.<br />\n<br />\nSpringhill Suites Apex<br />\n1100 Marco Drive<br />\nApex\, NC 27502</div>\n
LOCATION:Springhill Suites Apex 1100 Marco Drive Apex\, NC 27502
UID:e.502.12215
SEQUENCE:3
DTSTAMP:20260424T193012Z
URL:https://business.apexchamber.com/events/details/apex-intelligence-leveraging-ai-for-small-business-12215
END:VEVENT

END:VCALENDAR
