BEGIN:VCALENDAR
VERSION:2.0
PRODID:-//ChamberMaster//Event Calendar 2.0//EN
METHOD:PUBLISH
X-PUBLISHED-TTL:P3D
REFRESH-INTERVAL:P3D
CALSCALE:GREGORIAN
BEGIN:VEVENT
DTSTART:20171014T150000Z
DTEND:20171014T190000Z
X-MICROSOFT-CDO-ALLDAYEVENT:FALSE
SUMMARY:Artisan Fair
DESCRIPTION:Artisan Fair to benefit Christmas Store.Come out and support the Christmas Store while doing your holiday shopping.  Artisan items include baked goods\, fall and winter d cor and ornaments\,woodwork\, jewelry\, quilts\, knitted and crocheted Items\, local honey\, holiday photo booth  and other holiday gifts.
X-ALT-DESC;FMTTYPE=text/html:Artisan Fair to benefit Christmas Store.<span style="font-family:arial"><span style="font-size:9pt">Come out and support the Christmas Store while </span></span><span style="font-family:arial"><span style="font-size:9pt">doing your holiday shopping.&nbsp\; Artisan items include </span></span><span style="font-family:arial"><span style="font-size:9pt">baked goods\, fall and winter d&eacute\;cor and ornaments\,</span></span><span style="font-family:arial"><span style="font-size:9pt">woodwork\, jewelry\, quilts\, knitted and crocheted </span></span><span style="font-family:arial"><span style="font-size:9pt">Items\, local honey\, holiday photo booth &nbsp\;and other holiday gifts.</span></span>
LOCATION:New Horizons Fellowship - 820 E Williams St\, Apex - 919.303.5266
UID:e.502.4987
SEQUENCE:3
DTSTAMP:20260424T171540Z
URL:https://business.apexchamber.com/events/details/artisan-fair-4987
END:VEVENT

END:VCALENDAR
