BEGIN:VCALENDAR
VERSION:2.0
PRODID:-//ChamberMaster//Event Calendar 2.0//EN
METHOD:PUBLISH
X-PUBLISHED-TTL:P3D
REFRESH-INTERVAL:P3D
CALSCALE:GREGORIAN
BEGIN:VEVENT
DTSTART:20170920T150000Z
DTEND:20170920T163000Z
X-MICROSOFT-CDO-ALLDAYEVENT:FALSE
SUMMARY:B Corp 101
DESCRIPTION:Come learn why over 2\,100 companies from 42 different countries have joined the B Corporation movement. Our agenda is packed with real life stories\, tips\, and actions you can take right now. You will:\n\n\n	Learn the history of B Corps from local business leaders who are Certified B Corps\;\n	\n		o Chris Lawrence with Ten Dots\n		o Dan Norber with The Redwoods Group\n		o Steve Gilbert with Murphy's Natural\n		o Liz Tracy from HQ Raleigh\n	\n	\n	Get tips and easy things you can do to make sure your business has a positive impact. \n	Learn how B Corp Clinics and smart\, motivated college students can help you become a Certified B Corp. Wake Tech students will have the opportunity to register their interest in learning about B Corp\n	\n	We will not end the session until we have answered your questions and the group has had a chance to share ideas and best practices.Don't miss this great opportunity! Register today! \n\n	Click Here to Register
X-ALT-DESC;FMTTYPE=text/html:<p class="js-xd-read-more-contents l-mar-top-3">Come learn why over 2\,100 companies from 42 different countries have joined the B Corporation movement. Our agenda is packed with real life stories\, tips\, and actions you can take right now. You will:</p>\n\n<ul>\n	<li>Learn the history of B Corps from local business leaders who are Certified B Corps\;\n	<ul>\n		<li>o Chris Lawrence with Ten Dots</li>\n		<li>o Dan Norber with The Redwoods Group</li>\n		<li>o Steve Gilbert with Murphy&#39\;s Natural</li>\n		<li>o Liz Tracy from HQ Raleigh</li>\n	</ul>\n	</li>\n	<li>Get tips and easy things you can do to make sure your business has a positive impact.&nbsp\;</li>\n	<li>Learn how B Corp Clinics and smart\, motivated college students can help you become a Certified B Corp. Wake Tech students will have the opportunity to register their interest in learning about B Corp</li>\n	<li>\n	<p class="js-xd-read-more-contents l-mar-top-3">We will not end the session until we have answered your questions and the group has had a chance to share ideas and best practices.Don&rsquo\;t miss this great opportunity! Register today!&nbsp\;<br />\n	<a href="https://www.eventbrite.com/e/september-b-corps-101-tickets-36489688641"><span style="color:#0000FF\;">Click Here to Register</span></a></p>\n	</li>\n</ul>\n
LOCATION:Wale Technical Community College Main Campus Student Services Buildong (SSB) Rooms 212-213 9101 Fayetteville Road Raleigh\, NC 27603
UID:e.502.4957
SEQUENCE:3
DTSTAMP:20260424T074723Z
URL:https://business.apexchamber.com/events/details/b-corp-101-4957
END:VEVENT

END:VCALENDAR
