BEGIN:VCALENDAR
VERSION:2.0
PRODID:-//ChamberMaster//Event Calendar 2.0//EN
METHOD:PUBLISH
X-PUBLISHED-TTL:P3D
REFRESH-INTERVAL:P3D
CALSCALE:GREGORIAN
BEGIN:VEVENT
DTSTART:20170408T220000Z
DTEND:20170409T000000Z
X-MICROSOFT-CDO-ALLDAYEVENT:FALSE
SUMMARY:Beautib Boot Camp
DESCRIPTION:Rewind your visible signs of aging &  join the BEAUTI-BOOT CAMP!  MENU for Boot Camp Services\, Treatments & Products:\n\n	Scientific and Personalized Facial             5.Microderm Apeel treatment. \n	.Dark Spot minimizing                                6.Ozone therapy Tool Treatment\n	Anti-Aging Instant Face Lift                        7. Flawless Face/Glamour Look\n	Exfoliating/Moisture Treatment for Lip\, hands & Body.
X-ALT-DESC;FMTTYPE=text/html:<strong><span style="font-size:14.0pt">&nbsp\;Rewind your visible signs of aging &amp\;&nbsp\; join the BEAUTI-BOOT CAMP!&nbsp\; MENU for Boot Camp Services\, Treatments &amp\; Products:</span></strong>\n<ol>\n	<li><span style="font-size:10.0pt">Scientific and Personalized Facial&nbsp\;&nbsp\;&nbsp\;&nbsp\;&nbsp\;&nbsp\;&nbsp\;&nbsp\;&nbsp\; &nbsp\;&nbsp\; 5.Microderm Apeel treatment. </span></li>\n	<li>.<span style="font-size:10.0pt">Dark Spot minimizing&nbsp\;&nbsp\;&nbsp\;&nbsp\;&nbsp\;&nbsp\;&nbsp\;&nbsp\;&nbsp\;&nbsp\;&nbsp\;&nbsp\;&nbsp\;&nbsp\;&nbsp\;&nbsp\;&nbsp\;&nbsp\;&nbsp\;&nbsp\;&nbsp\;&nbsp\;&nbsp\;&nbsp\;&nbsp\;&nbsp\;&nbsp\;&nbsp\; &nbsp\;&nbsp\; 6.Ozone therapy Tool Treatment</span></li>\n	<li><span style="font-size:10.0pt">Anti-Aging Instant Face Lift &nbsp\; &nbsp\; &nbsp\; &nbsp\; &nbsp\; &nbsp\;&nbsp\;&nbsp\;&nbsp\;&nbsp\;&nbsp\;&nbsp\;&nbsp\;&nbsp\; &nbsp\;&nbsp\; 7. Flawless Face/Glamour Look</span></li>\n	<li><span style="font-size:10.0pt">Exfoliating/Moisture Treatment for Lip\, hands &amp\; Body.&nbsp\;&nbsp\;&nbsp\;&nbsp\; &nbsp\; </span></li>\n</ol>\n<br />\n<br />\n<br />\n&nbsp\;<br />\n&nbsp\;
LOCATION:Chamber of Commerce at Apex 220 N Salem St\, Apex\, NC 27502
UID:e.502.3266
SEQUENCE:3
DTSTAMP:20260425T152921Z
URL:https://business.apexchamber.com/events/details/beautib-boot-camp-04-08-2017-3266
END:VEVENT

END:VCALENDAR
