BEGIN:VCALENDAR
VERSION:2.0
PRODID:-//ChamberMaster//Event Calendar 2.0//EN
METHOD:PUBLISH
X-PUBLISHED-TTL:P3D
REFRESH-INTERVAL:P3D
CALSCALE:GREGORIAN
BEGIN:VEVENT
DTSTART:20180926T120000Z
DTEND:20180926T210000Z
X-MICROSOFT-CDO-ALLDAYEVENT:FALSE
SUMMARY:Board Retreat
DESCRIPTION:Board of Directors Meeting will be held during the Board Retreat
X-ALT-DESC;FMTTYPE=text/html:Board of Directors Meeting will be held during the Board Retreat<br />\n&nbsp\;
LOCATION:WakeMed Healthplex 120 Healthplex Way Apex\, NC 27502
UID:e.502.5979
SEQUENCE:3
DTSTAMP:20260421T163825Z
URL:https://business.apexchamber.com/events/details/board-retreat-5979
END:VEVENT

END:VCALENDAR
