BEGIN:VCALENDAR
VERSION:2.0
PRODID:-//ChamberMaster//Event Calendar 2.0//EN
METHOD:PUBLISH
X-PUBLISHED-TTL:P3D
REFRESH-INTERVAL:P3D
CALSCALE:GREGORIAN
BEGIN:VEVENT
DTSTART;VALUE=DATE:20180420
DTEND;VALUE=DATE:20180623
TRANSP:TRANSPARENT
X-MICROSOFT-CDO-ALLDAYEVENT:TRUE
SUMMARY:Bookbag Bonanza
DESCRIPTION:Started in 2000\, the Apex Chamber created Bookbag Bonanza to help meet the needs of Apex students who may otherwise go without school supplies.  \n\nBookbags and supplies are purchased for the elementary schools and money is given to the middle and high schools.  The area school leadership is involved in the "stuffing" of the bookbags which really help the initiative become a true community event.  We appreciate and value your support!
X-ALT-DESC;FMTTYPE=text/html:<p style="margin: 0px 0px 11px\;"><span style="font-size:14px\;"><span style="margin: 0px\; font-family: &quot\;Arial Narrow&quot\;\,sans-serif\;">Started in 2000\, the Apex Chamber created Bookbag Bonanza to help meet the needs of Apex students who may otherwise go without school supplies.<span style="margin: 0px\;">&nbsp\; </span></span></span></p>\n\n<p style="margin: 0px 0px 11px\;"><span style="font-size:14px\;"><span style="margin: 0px\; font-family: &quot\;Arial Narrow&quot\;\,sans-serif\;">Bookbags and supplies are purchased for the elementary schools and money is given to the middle and high schools.<span style="margin: 0px\;">&nbsp\; </span>The area school leadership is involved in the &ldquo\;stuffing&rdquo\; of the bookbags which really help the initiative become a true community event.<span style="margin: 0px\;">&nbsp\; </span>We appreciate and value your support!</span></span></p>\n
LOCATION:Apex Chamber of Commerce 220 N. Salem Street Apex\, NC 27502
UID:e.502.5896
SEQUENCE:3
DTSTAMP:20260420T211636Z
URL:https://business.apexchamber.com/events/details/bookbag-bonanza-5896
END:VEVENT

END:VCALENDAR
