BEGIN:VCALENDAR
VERSION:2.0
PRODID:-//ChamberMaster//Event Calendar 2.0//EN
METHOD:PUBLISH
X-PUBLISHED-TTL:P3D
REFRESH-INTERVAL:P3D
CALSCALE:GREGORIAN
BEGIN:VEVENT
DTSTART:20170601T144500Z
DTEND:20170601T160000Z
X-MICROSOFT-CDO-ALLDAYEVENT:FALSE
SUMMARY:Busienss Exit Planning
DESCRIPTION:Exit Planning Executive  Briefing:\n\nThe single most critically important financial event of business owners lives- the transaction out of their business.\n\nDuring the meeting we will briefly discuss options the business members will have to choose and the team it takes to implement such an exit plan. Advantages to planning for this event and the mistakes made when you do not plan ahead.  \n\n?Who should attend?  Anyone who is thinking of exiting their business in the next ten years. CPAs and Attorneys that work with business owner.     \n\nSpeakers : Board certifed business exit specialist and Family Buisness Consultant. Robbie Spivey ChFC\, CLU\, CWS\, CExP\, CITRMS\,  & Gary B. Gross CFP \, CLU\, ChFC  of Welathstrategies for Life LLC  \n\n?RSVP to ggross@wealthstrategies.life\n\nor 919-451-6067?  Gary\n\nhttp://www.wealthstrategies.life/corporate-client
X-ALT-DESC;FMTTYPE=text/html:<span style="font-size:12px"><span style="font-family:arial\,helvetica\,sans-serif"><big>Exit Planning Executive&nbsp\; Briefing:<br />\nThe single most critically important financial event of business owners lives- the transaction out of their business.<br />\nDuring the meeting we will briefly discuss options the business members will have to choose and the team it takes to implement such an exit plan. Advantages to planning for this event and the mistakes made when you do not plan ahead. &nbsp\;<br />\n?<span class="marker">Who should attend?&nbsp\; Anyone who is thinking of exiting their business in the next ten years. CPAs and Attorneys that work with business owner. &nbsp\;</span> &nbsp\;&nbsp\;<br />\nSpeakers : </big></span></span>Board certifed business exit specialist and Family Buisness Consultant. <span style="font-size:12px"><span style="font-family:arial\,helvetica\,sans-serif"><big>Robbie Spivey&nbsp\;ChFC\, CLU\, CWS\, CExP\, CITRMS\,&nbsp\; &amp\;&nbsp\;<span style="color:black">Gary B. Gross CFP</span>&reg\;\, <span style="color:black">CLU\, ChFC&nbsp\; of Welathstrategies for Life LLC &nbsp\;</span></big></span></span><br />\n?RSVP to <a href="mailto:ggross@welathstrategies.life?subject=Business%20Exit%20Planning">ggross@wealthstrategies.life</a><br />\nor 919-451-6067?&nbsp\; Gary<br />\n<a href="http://www.wealthstrategies.life/corporate-client">http://www.wealthstrategies.life/corporate-client</a> &nbsp\; &nbsp\; &nbsp\; &nbsp\; &nbsp\; &nbsp\;<br />\n&nbsp\; &nbsp\; &nbsp\; &nbsp\;
LOCATION:Apex Chamber of Commerce 220 North Salem Street Apex\, NC 27502
UID:e.502.3505
SEQUENCE:3
DTSTAMP:20260424T173857Z
URL:https://business.apexchamber.com/events/details/busienss-exit-planning-3505
END:VEVENT

END:VCALENDAR
