BEGIN:VCALENDAR
VERSION:2.0
PRODID:-//ChamberMaster//Event Calendar 2.0//EN
METHOD:PUBLISH
X-PUBLISHED-TTL:P3D
REFRESH-INTERVAL:P3D
CALSCALE:GREGORIAN
BEGIN:VEVENT
DTSTART:20180607T213000Z
DTEND:20180607T230000Z
X-MICROSOFT-CDO-ALLDAYEVENT:FALSE
SUMMARY:Business after Hours
DESCRIPTION:Business after Hours Networking with the Best in Apex Sponsored by The Mortgage Firm
X-ALT-DESC;FMTTYPE=text/html:Business after Hours Networking with the Best in Apex Sponsored by The Mortgage Firm
LOCATION:Glory Days in Apex @ Publix Point 1413 Kelly Rd. 27502
UID:e.502.5990
SEQUENCE:3
DTSTAMP:20260420T235056Z
URL:https://business.apexchamber.com/events/details/business-after-hours-5990
END:VEVENT

END:VCALENDAR
