BEGIN:VCALENDAR
VERSION:2.0
PRODID:-//ChamberMaster//Event Calendar 2.0//EN
METHOD:PUBLISH
X-PUBLISHED-TTL:P3D
REFRESH-INTERVAL:P3D
CALSCALE:GREGORIAN
BEGIN:VEVENT
DTSTART;VALUE=DATE:20190530
DTEND;VALUE=DATE:20190531
TRANSP:TRANSPARENT
X-MICROSOFT-CDO-ALLDAYEVENT:TRUE
SUMMARY:Business After Hours sponsored by Olive Chapel Professional Park
DESCRIPTION:Join us for our May Business After Hours sponsored by Olive Chapel Professional Park!
X-ALT-DESC;FMTTYPE=text/html:Join us for our May Business After Hours sponsored by Olive Chapel Professional Park!
LOCATION:Olive Chapel Professional Park 1480 Chapel Ridge Road Apex\, NC 27502
UID:e.502.6351
SEQUENCE:3
DTSTAMP:20260422T115417Z
URL:https://business.apexchamber.com/events/details/business-after-hours-sponsored-by-olive-chapel-professional-park-6351
END:VEVENT

END:VCALENDAR
