BEGIN:VCALENDAR
VERSION:2.0
PRODID:-//ChamberMaster//Event Calendar 2.0//EN
METHOD:PUBLISH
X-PUBLISHED-TTL:P3D
REFRESH-INTERVAL:P3D
CALSCALE:GREGORIAN
BEGIN:VEVENT
DTSTART:20221011T180000Z
DTEND:20221011T190000Z
X-MICROSOFT-CDO-ALLDAYEVENT:FALSE
SUMMARY:Business Education Committee Meeting
DESCRIPTION:Please join us for our Business Education Committee Meeting. This committee meets the 2nd Wednesday of each month. This committee is responsible for Developing our Business Education programs and Women's Networking Luncheons with speakers who will provide an informative presentation with topics relevant for businesses.
X-ALT-DESC;FMTTYPE=text/html:<span style="font-size:12px\;">Please join us for our Business Education Committee Meeting. This committee meets the 2nd Wednesday of each month. This committee is responsible for&nbsp\;Developing our Business Education programs and Women&#39\;s Networking Luncheons with speakers who will provide an informative presentation with topics relevant for businesses.</span><br />\n<br />\n&nbsp\;
LOCATION:
UID:e.502.9405
SEQUENCE:3
DTSTAMP:20260425T013151Z
URL:https://business.apexchamber.com/events/details/business-education-committee-meeting-10-12-2022-9405
END:VEVENT

END:VCALENDAR
