BEGIN:VCALENDAR
VERSION:2.0
PRODID:-//ChamberMaster//Event Calendar 2.0//EN
METHOD:PUBLISH
X-PUBLISHED-TTL:P3D
REFRESH-INTERVAL:P3D
CALSCALE:GREGORIAN
BEGIN:VEVENT
DTSTART:20210916T150000Z
DTEND:20210916T173000Z
X-MICROSOFT-CDO-ALLDAYEVENT:FALSE
SUMMARY:Business Education Lunch & Learn: Fall Marketing Tips & Tricks
DESCRIPTION:Join us for our September Business Education Lunch & Learn: Fall Marketing Tips & Tricks.
X-ALT-DESC;FMTTYPE=text/html:Join us for our September Business Education Lunch &amp\; Learn: Fall Marketing Tips &amp\; Tricks.
LOCATION:Prestonwood Country Club 300 Prestonwood Parkway Cary\, NC 27513
UID:e.502.9305
SEQUENCE:3
DTSTAMP:20260420T020601Z
URL:https://business.apexchamber.com/events/details/business-education-lunch-learn-fall-marketing-tips-tricks-9305
END:VEVENT

END:VCALENDAR
