BEGIN:VCALENDAR
VERSION:2.0
PRODID:-//ChamberMaster//Event Calendar 2.0//EN
METHOD:PUBLISH
X-PUBLISHED-TTL:P3D
REFRESH-INTERVAL:P3D
CALSCALE:GREGORIAN
BEGIN:VEVENT
DTSTART:20181107T230000Z
DTEND:20181108T003000Z
X-MICROSOFT-CDO-ALLDAYEVENT:FALSE
SUMMARY:Business Matters
DESCRIPTION:Enjoy casual after hours networking following local business leaders sharing growth and development insights.\n\nFeaturing four local entrepreneurs\, each presenting a topic relevant to business owners\, and wine tasting.\n\n\n\nTalks will be brief\, dynamic\, and value packed .be ready to take notes and leave with business building ideas you can implement the next day.\n\n\n\nClick here for infomration flyer\n\nIf you are planning to attend please register to help us guage interest and attendance at eventbrite
X-ALT-DESC;FMTTYPE=text/html:Enjoy casual after hours networking following local business leaders sharing growth and development insights.<br />\nFeaturing four local entrepreneurs\, each presenting a topic relevant to business owners\, and wine tasting.<br />\n<br />\nTalks will be brief\, dynamic\, and value packed&hellip\;.be ready to take notes and leave with business building ideas you can implement the next day.<br />\n<br />\n<a href="https://drive.google.com/file/d/1Ke2Vjv_Eq9NR4C50tUpG6OElQ2UMMeaG/view?usp=sharing">Click here for infomration flyer</a><br />\nIf you are planning to attend please register to help us guage interest and attendance at <a href="https://eventbrite.com/e/business-matters-tickets-51892354429">eventbrite</a>
LOCATION:American Frontier: 1600 Olive Chapel Rd. Ste 128\, Apex\, NC 27502
UID:e.502.6238
SEQUENCE:3
DTSTAMP:20260419T162516Z
URL:https://business.apexchamber.com/events/details/business-matters-6238
END:VEVENT

END:VCALENDAR
