BEGIN:VCALENDAR
VERSION:2.0
PRODID:-//ChamberMaster//Event Calendar 2.0//EN
METHOD:PUBLISH
X-PUBLISHED-TTL:P3D
REFRESH-INTERVAL:P3D
CALSCALE:GREGORIAN
BEGIN:VEVENT
DTSTART:20180211T173000Z
DTEND:20180212T000000Z
X-MICROSOFT-CDO-ALLDAYEVENT:FALSE
SUMMARY:Cabin Fever Throwdown
DESCRIPTION:The event will again feature a great lineup of live bands\, dancing\, door prizes\, auction items\, food\, and cash bar. The proceeds will help ensure quality\, compassionate care for the sick and dying through our hospice services and a safe\, comforting place to heal for grieving families through our bereavement program.
X-ALT-DESC;FMTTYPE=text/html:The event will again feature a great lineup of live bands\, dancing\, door prizes\, auction items\, food\, and cash bar. The proceeds will help ensure quality\, compassionate care for the sick and dying through our hospice services and a safe\, comforting place to heal for grieving families through our bereavement program.
LOCATION:Sheraton Imperial Hotel & Convention Center 4700 Emperor Blvd.\, Durham\, NC 27703 (I-40 at Exit 282\, Page Road)
UID:e.502.5045
SEQUENCE:3
DTSTAMP:20260421T202134Z
URL:https://business.apexchamber.com/events/details/cabin-fever-throwdown-5045
END:VEVENT

END:VCALENDAR
