BEGIN:VCALENDAR
VERSION:2.0
PRODID:-//ChamberMaster//Event Calendar 2.0//EN
METHOD:PUBLISH
X-PUBLISHED-TTL:P3D
REFRESH-INTERVAL:P3D
CALSCALE:GREGORIAN
BEGIN:VEVENT
DTSTART:20170815T160000Z
DTEND:20170815T170000Z
X-MICROSOFT-CDO-ALLDAYEVENT:FALSE
SUMMARY:Chamber 101
DESCRIPTION:This event is closed due to enrollment capacity. Please join us for our next Chamber 101 wihich will take place October 17th.\n\n\n\nJoin us for our August Chamber 101 session to learn all about what it means to be an Apex Chamber member and all of your member benefits!
X-ALT-DESC;FMTTYPE=text/html:<span style="color:#FF0000\;">This event is closed due to enrollment capacity. Please join us for our next Chamber 101 wihich will take place October 17th.</span><br />\n<br />\nJoin us for our August Chamber 101 session to learn all about what it means to be an Apex Chamber member and all of your member benefits!
LOCATION:Apex Chamber of Commerce 220 N. Salem Street Apex\, NC 27502
UID:e.502.3014
SEQUENCE:3
DTSTAMP:20260424T162352Z
URL:https://business.apexchamber.com/events/details/chamber-101-3014
END:VEVENT

END:VCALENDAR
