BEGIN:VCALENDAR
VERSION:2.0
PRODID:-//ChamberMaster//Event Calendar 2.0//EN
METHOD:PUBLISH
X-PUBLISHED-TTL:P3D
REFRESH-INTERVAL:P3D
CALSCALE:GREGORIAN
BEGIN:VEVENT
DTSTART:20171017T160000Z
DTEND:20171017T170000Z
X-MICROSOFT-CDO-ALLDAYEVENT:FALSE
SUMMARY:Chamber 101
DESCRIPTION:Join us for our October Chamber 101 session to learn all about what it means to be an Apex Chamber Member and all of your member benefits!
X-ALT-DESC;FMTTYPE=text/html:Join us for our October Chamber 101 session to learn all about what it means to be an Apex Chamber Member and all of your member benefits!&nbsp\;
LOCATION:Apex Chamber of Commerce 220 N. Salem Street Apex\, NC 27502
UID:e.502.3036
SEQUENCE:3
DTSTAMP:20260425T194718Z
URL:https://business.apexchamber.com/events/details/chamber-101-3036
END:VEVENT

END:VCALENDAR
