BEGIN:VCALENDAR
VERSION:2.0
PRODID:-//ChamberMaster//Event Calendar 2.0//EN
METHOD:PUBLISH
X-PUBLISHED-TTL:P3D
REFRESH-INTERVAL:P3D
CALSCALE:GREGORIAN
BEGIN:VEVENT
DTSTART:20250115T170000Z
DTEND:20250115T180000Z
X-MICROSOFT-CDO-ALLDAYEVENT:FALSE
SUMMARY:Chamber Member Orientation
DESCRIPTION:Join us at the Apex Chamber boardroom for the January Chamber Orientation Class! Learn about your chamber benefits\, how the chamber operates\, how to market your business on our website\, and much more!
X-ALT-DESC;FMTTYPE=text/html:Join us at the Apex Chamber boardroom for the January Chamber Orientation Class! Learn about your chamber benefits\, how the chamber operates\, how to market your business on our website\, and much more!
LOCATION:Apex Chamber Of Commerce 22 N Salem Street Apex\, NC 27502
UID:e.502.11507
SEQUENCE:3
DTSTAMP:20260425T145931Z
URL:https://business.apexchamber.com/events/details/chamber-member-orientation-11507
END:VEVENT

END:VCALENDAR
