BEGIN:VCALENDAR
VERSION:2.0
PRODID:-//ChamberMaster//Event Calendar 2.0//EN
METHOD:PUBLISH
X-PUBLISHED-TTL:P3D
REFRESH-INTERVAL:P3D
CALSCALE:GREGORIAN
BEGIN:VEVENT
DTSTART:20221013T130000Z
DTEND:20221013T140000Z
X-MICROSOFT-CDO-ALLDAYEVENT:FALSE
SUMMARY:Community Outreach Committee Meeting
DESCRIPTION:Join us for the monthly Community Outreach Committee Meeting. We meet the 2nd Thursday each month.
X-ALT-DESC;FMTTYPE=text/html:Join us for the monthly Community Outreach Committee Meeting. We meet the 2nd Thursday each month.
LOCATION:Common Grounds 219 N Salem St STE 101 Apex\, NC 27502
UID:e.502.8791
SEQUENCE:3
DTSTAMP:20260425T013057Z
URL:https://business.apexchamber.com/events/details/community-outreach-committee-meeting-10-13-2022-8791
END:VEVENT

END:VCALENDAR
