BEGIN:VCALENDAR
VERSION:2.0
PRODID:-//ChamberMaster//Event Calendar 2.0//EN
METHOD:PUBLISH
X-PUBLISHED-TTL:P3D
REFRESH-INTERVAL:P3D
CALSCALE:GREGORIAN
BEGIN:VEVENT
DTSTART:20180519T120000Z
DTEND:20180519T160000Z
X-MICROSOFT-CDO-ALLDAYEVENT:FALSE
SUMMARY:Community Yard Sale
DESCRIPTION:Saturday\, May 19th \n\n8am-12\n\nSpring Arbor Senior Living\n\n901 Spring Arbor Court \n\nApex\, NC 27502\n\nOur Annual Yard Sale is scheduled for May 19th and the \n\nproceeds from space rentals will go to \n\nAlzheimer's North Carolina. \n\nThese spaces are $10.00 and you provide your own table. This is a great time and easy way to rid yourself of those "treasures" which you no longer use. \n\nYOU KEEP THE PROFITS FROM YOUR SALES! \n\nPlease contact Shirley Sprinkle or Sherryl Lewis to \n\nreserve your space.  919-303-9990
X-ALT-DESC;FMTTYPE=text/html:<span style="font-size:48pt"><span style="font-family:century gothic">Saturday\, May 19th </span></span><br />\n<span style="font-size:28pt"><span style="font-family:century gothic">8am-12</span></span><br />\n<strong><span style="font-size:28pt"><span style="font-family:calibri">Spring Arbor Senior Living</span></span></strong><br />\n<strong><span style="font-size:28pt"><span style="font-family:calibri">901 Spring Arbor Court </span></span></strong><br />\n<strong><span style="font-size:28pt"><span style="font-family:calibri">Apex\, NC 27502</span></span></strong><br />\n<span style="font-size:18pt"><span style="font-family:calibri">Our Annual Yard Sale is scheduled for May 19th and the </span></span><br />\n<span style="font-size:18pt"><span style="font-family:calibri">proceeds from space rentals will go to </span></span><br />\n<u><span style="font-size:18pt"><span style="font-family:calibri">Alzheimer&rsquo\;s North Carolina</span></span></u><span style="font-size:18pt"><span style="font-family:calibri">. </span></span><br />\n<span style="font-size:18pt"><span style="font-family:calibri">These spaces are $10.00 and you provide your own table. This is a great time and easy way to rid yourself of those &ldquo\;treasures&rdquo\; which you no longer use. </span></span><br />\n<span style="font-size:18pt"><span style="font-family:calibri">YOU KEEP THE PROFITS FROM YOUR SALES! </span></span><br />\n<span style="font-size:18pt"><span style="font-family:calibri">Please contact Shirley Sprinkle or Sherryl Lewis to </span></span><br />\n<span style="font-size:18pt"><span style="font-family:calibri">reserve your space.&nbsp\; </span></span><strong><span style="font-size:18pt"><span style="font-family:calibri">919-303-9990</span></span></strong><br />\n&nbsp\;<br />\n&nbsp\;
LOCATION:
UID:e.502.5968
SEQUENCE:3
DTSTAMP:20260424T065228Z
URL:https://business.apexchamber.com/events/details/community-yard-sale-5968
END:VEVENT

END:VCALENDAR
