BEGIN:VCALENDAR
VERSION:2.0
PRODID:-//ChamberMaster//Event Calendar 2.0//EN
METHOD:PUBLISH
X-PUBLISHED-TTL:P3D
REFRESH-INTERVAL:P3D
CALSCALE:GREGORIAN
BEGIN:VEVENT
DTSTART:20181118T180000Z
DTEND:20181118T220000Z
X-MICROSOFT-CDO-ALLDAYEVENT:FALSE
SUMMARY:Craft & Vendor Fair
DESCRIPTION:Annual Craft & Vendor Fair sponsored by Time 2 Go Travel and International Travel Girl Scout Troop 7000. There will be more than 30 vendors both inside and outside the Chamber building. Come and get some early Christmas shopping done!
X-ALT-DESC;FMTTYPE=text/html:Annual Craft &amp\; Vendor Fair sponsored by Time 2 Go Travel and International Travel Girl Scout Troop 7000. There will be more than 30 vendors both inside and outside the Chamber building. Come and get some early Christmas shopping done!
LOCATION:Apex Chamber of Commerce building - 220 N Salem Street
UID:e.502.6214
SEQUENCE:3
DTSTAMP:20260422T071847Z
URL:https://business.apexchamber.com/events/details/craft-vendor-fair-6214
END:VEVENT

END:VCALENDAR
