BEGIN:VCALENDAR
VERSION:2.0
PRODID:-//ChamberMaster//Event Calendar 2.0//EN
METHOD:PUBLISH
X-PUBLISHED-TTL:P3D
REFRESH-INTERVAL:P3D
CALSCALE:GREGORIAN
BEGIN:VEVENT
DTSTART:20170924T133000Z
DTEND:20170924T160000Z
X-MICROSOFT-CDO-ALLDAYEVENT:FALSE
SUMMARY:Different
DESCRIPTION:In this world\, you'll have struggles. You'll face opposition. You'll be challenged. And there's a reason for that: this world is not your home. So answer hate with love\, find joy in the midst of trials\, and rely on a strength beyond yourself. You're meant to be   Different.\n\nSeptember 3 Different Faith in Trials\n\nSeptember 10 Different Values in an Unholy Culture\n\nSeptember 17 Different Calling in a Dark World\n\nSeptember 24 Different Perspective In Persecution
X-ALT-DESC;FMTTYPE=text/html:<p>In this world\, you&rsquo\;ll have struggles. You&rsquo\;ll face opposition. You&rsquo\;ll be challenged. And there&rsquo\;s a reason for that: this world is not your home. So answer hate with love\, find joy in the midst of trials\, and rely on a strength beyond yourself. You&rsquo\;re meant to be &hellip\; Different.</p>\n\n<p>September 3 Different Faith in Trials<br />\nSeptember 10 Different Values in an Unholy Culture<br />\nSeptember 17 Different Calling in a Dark World<br />\n<span style="font-family:inherit">September 24 Different Perspective In Persecution</span></p>\n
LOCATION:New Horizons Fellowship 820 E Williams St Apex\, NC 27502
UID:e.502.4977
SEQUENCE:3
DTSTAMP:20260424T094927Z
URL:https://business.apexchamber.com/events/details/different-09-24-2017-4977
END:VEVENT

END:VCALENDAR
