BEGIN:VCALENDAR
VERSION:2.0
PRODID:-//ChamberMaster//Event Calendar 2.0//EN
METHOD:PUBLISH
X-PUBLISHED-TTL:P3D
REFRESH-INTERVAL:P3D
CALSCALE:GREGORIAN
BEGIN:VEVENT
DTSTART:20180215T000000Z
DTEND:20180215T013000Z
X-MICROSOFT-CDO-ALLDAYEVENT:FALSE
SUMMARY:Divorce Care
DESCRIPTION:DivorceCare is a friendly\, caring group of people who will walk alongside you through one of life's most difficult experiences. Don't go through separation or divorce alone. This is a 14 week group beginning February 14-May 16th. This group is open to both men and women. Childcare is available by calling 919.303.5266.
X-ALT-DESC;FMTTYPE=text/html:<span style="background-color:rgb(255\, 255\, 255)\; color:rgb(51\, 51\, 51)\; font-family:system-ui\,-apple-system\,blinkmacsystemfont\,helveticaneue\,helvetica neue\,helvetica\,roboto\,segoe ui\,arial\,sans-serif\; font-size:14px">DivorceCare is a friendly\, caring group of people who will walk alongside you through one of life&rsquo\;s most difficult experiences. Don&rsquo\;t go through separation or divorce alone. This is a 14 week group beginning February 14-May 16th. This group is open to both men and women. Childcare is available by calling 919.303.5266.</span><br />\n<!--EndFragment-->
LOCATION:New Horizons Fellowship 820 E Williams St Apex\, NC 27502
UID:e.502.4962
SEQUENCE:3
DTSTAMP:20260421T172157Z
URL:https://business.apexchamber.com/events/details/divorce-care-4962
END:VEVENT

END:VCALENDAR
