BEGIN:VCALENDAR
VERSION:2.0
PRODID:-//ChamberMaster//Event Calendar 2.0//EN
METHOD:PUBLISH
X-PUBLISHED-TTL:P3D
REFRESH-INTERVAL:P3D
CALSCALE:GREGORIAN
BEGIN:VEVENT
DTSTART:20180214T130000Z
DTEND:20180214T153000Z
X-MICROSOFT-CDO-ALLDAYEVENT:FALSE
SUMMARY:Economic Forecast
DESCRIPTION:Join us for our Economic Forecast Event in partnership with Fuquay-Varina and Holly Springs Chambers of Commerce and featuring Mark Vitner Senior Economist of Wells Fargo!
X-ALT-DESC;FMTTYPE=text/html:Join us for&nbsp\;our Economic Forecast Event in partnership with Fuquay-Varina and Holly Springs Chambers of Commerce and featuring Mark Vitner&nbsp\;Senior Economist of Wells Fargo!
LOCATION:Halle Cultural Arts Center 237 N Salem Street Apex\, NC 27502
UID:e.502.5115
SEQUENCE:3
DTSTAMP:20260422T055650Z
URL:https://business.apexchamber.com/events/details/economic-forecast-5115
END:VEVENT

END:VCALENDAR
