BEGIN:VCALENDAR
VERSION:2.0
PRODID:-//ChamberMaster//Event Calendar 2.0//EN
METHOD:PUBLISH
X-PUBLISHED-TTL:P3D
REFRESH-INTERVAL:P3D
CALSCALE:GREGORIAN
BEGIN:VEVENT
DTSTART:20180214T133000Z
DTEND:20180214T143000Z
X-MICROSOFT-CDO-ALLDAYEVENT:FALSE
SUMMARY:Executive Committee Meeting
DESCRIPTION:
X-ALT-DESC;FMTTYPE=text/html:
LOCATION:Apex Chamber of Commerce 220 N Salem Street Apex\, NC 27502
UID:e.502.5057
SEQUENCE:3
DTSTAMP:20260421T202359Z
URL:https://business.apexchamber.com/events/details/executive-committee-meeting-5057
END:VEVENT

END:VCALENDAR
