BEGIN:VCALENDAR
VERSION:2.0
PRODID:-//ChamberMaster//Event Calendar 2.0//EN
METHOD:PUBLISH
X-PUBLISHED-TTL:P3D
REFRESH-INTERVAL:P3D
CALSCALE:GREGORIAN
BEGIN:VEVENT
DTSTART:20180718T123000Z
DTEND:20180718T140000Z
X-MICROSOFT-CDO-ALLDAYEVENT:FALSE
SUMMARY:Executive Committee Meeting
DESCRIPTION:Executive Committee Meetings are held the 3rd Wednesday of each month from 8:30 am - 10:00 am
X-ALT-DESC;FMTTYPE=text/html:Executive Committee Meetings are held the 3rd Wednesday of each month from 8:30 am - 10:00 am
LOCATION:Apex Chamber of Commerce 220 N Salem Street Apex\, NC 27502
UID:e.502.5218
SEQUENCE:3
DTSTAMP:20260420T200532Z
URL:https://business.apexchamber.com/events/details/executive-committee-meeting-5218
END:VEVENT

END:VCALENDAR
