BEGIN:VCALENDAR
VERSION:2.0
PRODID:-//ChamberMaster//Event Calendar 2.0//EN
METHOD:PUBLISH
X-PUBLISHED-TTL:P3D
REFRESH-INTERVAL:P3D
CALSCALE:GREGORIAN
BEGIN:VEVENT
DTSTART:20180918T224500Z
DTEND:20180919T000000Z
X-MICROSOFT-CDO-ALLDAYEVENT:FALSE
SUMMARY:Fall Cleaning & Emergency Prep
DESCRIPTION:Emergency Oils & Fall Cleaning\n\nEssential Oils CAN Soothe bug bites\, sunburn\, Calm emotions/anxiety & \n\nNaturally Re-Balance\nEXPLORE---EXPERIENCE --- SHARE\n\nGet Empowered to Take Control of Your Health BECAUSE Healthy CAN be Simple!\n\nWe meet every 3rd Tuesday!
X-ALT-DESC;FMTTYPE=text/html:<div style="text-align:center"><font color="#002060" face="arial narrow\, sans-serif"><span style="font-size:53.3333px"><strong>Emergency Oils &amp\; Fall Cleaning</strong></span></font><br />\n<strong><span style="color:rgb(0\, 32\, 96)"><span style="font-family:arial narrow\,sans-serif"><span style="font-size:38pt">Essential Oils CAN Soothe bug bites\, sunburn\, Calm emotions/anxiety &amp\;&nbsp\;</span></span></span></strong><br />\n<strong><span style="color:rgb(0\, 32\, 96)"><span style="font-family:arial narrow\,sans-serif"><span style="font-size:38pt">Naturally Re-Balance</span></span></span></strong></div>\n<strong><span style="color:green"><span style="font-family:arial narrow\,sans-serif"><span style="font-size:28pt">EXPLORE---EXPERIENCE --- SHARE</span></span></span></strong><br />\n<strong><span style="color:blue"><span style="font-family:arial narrow\,sans-serif"><span style="font-size:24pt">Get Empowered to Take Control of Your Health BECAUSE Healthy CAN be Simple!</span></span></span></strong><br />\n<strong><span style="font-family:arial narrow\,sans-serif"><span style="font-size:20pt">We meet every 3<sup>rd</sup> Tuesday!</span></span></strong><br />\n&nbsp\;
LOCATION:Apex Chamber Conference Room\, 220 N.Salem St\, Apex NC
UID:e.502.6161
SEQUENCE:3
DTSTAMP:20260419T230520Z
URL:https://business.apexchamber.com/events/details/fall-cleaning-emergency-prep-6161
END:VEVENT

END:VCALENDAR
