BEGIN:VCALENDAR
VERSION:2.0
PRODID:-//ChamberMaster//Event Calendar 2.0//EN
METHOD:PUBLISH
X-PUBLISHED-TTL:P3D
REFRESH-INTERVAL:P3D
CALSCALE:GREGORIAN
BEGIN:VEVENT
DTSTART:20240904T123000Z
DTEND:20240904T140000Z
X-MICROSOFT-CDO-ALLDAYEVENT:FALSE
SUMMARY:First Responders Appreciation
DESCRIPTION:We are honoring our first responders with an invite-only morning gathering at the Depot\, with food and specially requested items to equip our fire and police stations. Sponsors are also invited to this event\; consider supporting our local first responders with a sponsorship!
X-ALT-DESC;FMTTYPE=text/html:We are honoring our first responders with an invite-only morning gathering at the Depot\, with food and specially requested items to equip our fire and police stations. Sponsors are also invited to this event\; consider supporting our local first responders with a sponsorship!
LOCATION:The Depot 220 N. Salem Street Apex\, NC
UID:e.502.11136
SEQUENCE:3
DTSTAMP:20260420T095902Z
URL:https://business.apexchamber.com/events/details/first-responders-appreciation-11136
END:VEVENT

END:VCALENDAR
