BEGIN:VCALENDAR
VERSION:2.0
PRODID:-//ChamberMaster//Event Calendar 2.0//EN
METHOD:PUBLISH
X-PUBLISHED-TTL:P3D
REFRESH-INTERVAL:P3D
CALSCALE:GREGORIAN
BEGIN:VEVENT
DTSTART:20180110T230000Z
DTEND:20180111T010000Z
X-MICROSOFT-CDO-ALLDAYEVENT:FALSE
SUMMARY:Fit-N-Sip
DESCRIPTION:Enjoy The Perky Lady after hours for Fit-N-Sip! The first in our series! Learn the basics of what your bra should be doing\, have a bra fitting\, and a little unabashed shopping time all while enjoying a wine flight. This is going to be fun!\n\nSpace is limited...reserve your glass now:)
X-ALT-DESC;FMTTYPE=text/html:<div>Enjoy The Perky Lady after hours for Fit-N-Sip! The first in our series! Learn the basics of what your bra should be doing\, have a bra fitting\, and a little unabashed shopping time all while enjoying a wine flight. This is going to be fun!</div>\n\n<div>Space is limited...reserve your glass now:)</div>\n
LOCATION:The Perky Lady 106 W Chatham St Apex\, NC 27502
UID:e.502.5118
SEQUENCE:3
DTSTAMP:20260423T172946Z
URL:https://business.apexchamber.com/events/details/fit-n-sip-5118
END:VEVENT

END:VCALENDAR
