BEGIN:VCALENDAR
VERSION:2.0
PRODID:-//ChamberMaster//Event Calendar 2.0//EN
METHOD:PUBLISH
X-PUBLISHED-TTL:P3D
REFRESH-INTERVAL:P3D
CALSCALE:GREGORIAN
BEGIN:VEVENT
DTSTART:20240601T180000Z
DTEND:20240601T200000Z
X-MICROSOFT-CDO-ALLDAYEVENT:FALSE
SUMMARY:FREE Ice Cream Social!
DESCRIPTION:Join the Ragan Realty Team for a FREE Ice Cream Social at Bee Sweet Creamery in Apex benefiting Peak Beginnings! Peak Beginnings was founded in 2021 by a Wake County teacher who recognized the educational barriers faced by children from under-resourced families in our community.
X-ALT-DESC;FMTTYPE=text/html:<span style="font-family:400 normal-basis grotesque\,basis grotesque\; font-size:19.5px">Join the Ragan Realty Team for a FREE Ice Cream Social at Bee Sweet Creamery in Apex benefiting Peak Beginnings! Peak Beginnings was founded in 2021 by a Wake County teacher who recognized the educational barriers faced by children from under-resourced families in our community.</span>
LOCATION:Bee Sweet Creamery 76 Hunter St\, Apex\, NC 27502
UID:e.502.11150
SEQUENCE:3
DTSTAMP:20260420T112340Z
URL:https://business.apexchamber.com/events/details/free-ice-cream-social-11150
END:VEVENT

END:VCALENDAR
