BEGIN:VCALENDAR
VERSION:2.0
PRODID:-//ChamberMaster//Event Calendar 2.0//EN
METHOD:PUBLISH
X-PUBLISHED-TTL:P3D
REFRESH-INTERVAL:P3D
CALSCALE:GREGORIAN
BEGIN:VEVENT
DTSTART:20180913T130000Z
DTEND:20180913T140000Z
X-MICROSOFT-CDO-ALLDAYEVENT:FALSE
SUMMARY:Golf Meeting
DESCRIPTION:Golf Meeting (fundraising) will meet every 2nd Thursday of each month until closer to the May 14\, 2018 event when it will meet more frequently.
X-ALT-DESC;FMTTYPE=text/html:Golf Meeting (fundraising) will meet every 2nd Thursday of each month until closer to the May 14\,&nbsp\;2018 event when it will meet more frequently.
LOCATION:Apex Chamber 220 N Salem Street Apex\, NC 27502
UID:e.502.5243
SEQUENCE:3
DTSTAMP:20260420T014457Z
URL:https://business.apexchamber.com/events/details/golf-meeting-5243
END:VEVENT

END:VCALENDAR
