BEGIN:VCALENDAR
VERSION:2.0
PRODID:-//ChamberMaster//Event Calendar 2.0//EN
METHOD:PUBLISH
X-PUBLISHED-TTL:P3D
REFRESH-INTERVAL:P3D
CALSCALE:GREGORIAN
BEGIN:VEVENT
DTSTART:20221012T120000Z
DTEND:20221012T130000Z
X-MICROSOFT-CDO-ALLDAYEVENT:FALSE
SUMMARY:Government Affairs Committee Meeting
DESCRIPTION:Join the Apex Chamber for our monthly Virtual Government Affairs Committee Meeting. This month's speaker will be Bo Hines\, the Republican Candidate running for Congress in the open 13th District.\n\n\n\nAll Chamber Members Welcome! Zoom link will be sent out prior to event.
X-ALT-DESC;FMTTYPE=text/html:Join the Apex Chamber for our monthly Virtual Government Affairs Committee Meeting. This month&#39\;s speaker will be Bo Hines\, the Republican Candidate running for Congress in the open 13th District.<br />\n<br />\nAll Chamber Members Welcome! Zoom link will be sent out prior to event.
LOCATION:Virtual Meeting. Zoom link will be sent out prior to event.
UID:e.502.9773
SEQUENCE:3
DTSTAMP:20260421T032057Z
URL:https://business.apexchamber.com/events/details/government-affairs-committee-meeting-9773
END:VEVENT

END:VCALENDAR
