BEGIN:VCALENDAR
VERSION:2.0
PRODID:-//ChamberMaster//Event Calendar 2.0//EN
METHOD:PUBLISH
X-PUBLISHED-TTL:P3D
REFRESH-INTERVAL:P3D
CALSCALE:GREGORIAN
BEGIN:VEVENT
DTSTART:20171201T223000Z
DTEND:20171202T003000Z
X-MICROSOFT-CDO-ALLDAYEVENT:FALSE
SUMMARY:Government and Board Reception
DESCRIPTION:The Apex Chamber of Commerce will host a Reception for all Chamber Board members and Government Officials immediately following the Tree Lighting Ceremony.
X-ALT-DESC;FMTTYPE=text/html:The Apex Chamber of Commerce will host a Reception for all Chamber Board members and Government Officials immediately following the Tree Lighting Ceremony.
LOCATION:Apex Chamber of Commerce 220 N. Salem Street Apex\, NC 27502
UID:e.502.3051
SEQUENCE:3
DTSTAMP:20260424T155507Z
URL:https://business.apexchamber.com/events/details/government-and-board-reception-3051
END:VEVENT

END:VCALENDAR
