BEGIN:VCALENDAR
VERSION:2.0
PRODID:-//ChamberMaster//Event Calendar 2.0//EN
METHOD:PUBLISH
X-PUBLISHED-TTL:P3D
REFRESH-INTERVAL:P3D
CALSCALE:GREGORIAN
BEGIN:VEVENT
DTSTART:20180929T125000Z
DTEND:20180929T150000Z
X-MICROSOFT-CDO-ALLDAYEVENT:FALSE
SUMMARY:Hasentree Color Run
DESCRIPTION:Join us for our 2nd Annual Hasentree 5K Color Run on Saturday\, September 29! We are partnering with Make-A-Wish  Eastern North Carolina for this family-friendly\, colorful event. Festivities will kick-off at 8:50 a.m. with a children's 1-mile fun run\, and the Color Run 5K will start promptly at 9:10 a.m. Prizes will be awarded to 1st - 3rd place for the fun run and 5K. Not a runner? No problem. We have a ton of fun events planned for the entire family to enjoy! Play Giant Plinko from Galaxy Fun Park\, let the kids play on one of our two playgrounds and bounce house\, or sit back and grab a beer from a local brewery and listen to the music while cheering on your friends or family. All Net proceeds will go directly to Make-A-Wish  Eastern North Carolina. Last year we were able to donate thousands of dollars\, and we hope to double the amount year!
X-ALT-DESC;FMTTYPE=text/html:Join us for our 2nd Annual Hasentree 5K Color Run on Saturday\, September 29! We are partnering with Make-A-Wish&reg\; Eastern North Carolina for this family-friendly\, colorful event. Festivities will kick-off at 8:50 a.m. with a children&rsquo\;s 1-mile fun run\, and the Color Run 5K will start promptly at 9:10 a.m. Prizes will be awarded to 1st - 3rd place for the fun run and 5K. Not a runner? No problem. We have a ton of fun events planned for the entire family to enjoy! Play Giant Plinko from Galaxy Fun Park\, let the kids play on one of our two playgrounds and bounce house\, or sit back and grab a beer from a local brewery and listen to the music while cheering on your friends or family. All Net proceeds will go directly to Make-A-Wish&reg\; Eastern North Carolina. Last year we were able to donate thousands of dollars\, and we hope to double the amount year!
LOCATION:1112 Keith Road\, Wake Forest\, NC 27587
UID:e.502.6009
SEQUENCE:3
DTSTAMP:20260419T212646Z
URL:https://business.apexchamber.com/events/details/hasentree-color-run-6009
END:VEVENT

END:VCALENDAR
