BEGIN:VCALENDAR
VERSION:2.0
PRODID:-//ChamberMaster//Event Calendar 2.0//EN
METHOD:PUBLISH
X-PUBLISHED-TTL:P3D
REFRESH-INTERVAL:P3D
CALSCALE:GREGORIAN
BEGIN:VEVENT
DTSTART:20220913T190000Z
DTEND:20220913T200000Z
X-MICROSOFT-CDO-ALLDAYEVENT:FALSE
SUMMARY:How to Be Cyber-Safe: Everything You Wanted To Know About Being Scammed But Did Not Know Who To Ask
DESCRIPTION:Regardless of generation\, scammers are targeting everyone! Learn from local expert Adam Pittman how to protect yourself from cyber security threats through simple and cost-effective methods.
X-ALT-DESC;FMTTYPE=text/html:<div style="margin-right:2rem">\n<p><strong>Regardless of generation\, scammers are targeting everyone! Learn from local expert Adam Pittman how to protect yourself from cyber security threats through simple and cost-effective methods.</strong></p>\n\n<div>&nbsp\;</div>\n</div>\n\n<div>&nbsp\;</div>\n
LOCATION:Eva Perry Regional Library
UID:e.502.9782
SEQUENCE:3
DTSTAMP:20260425T001023Z
URL:https://business.apexchamber.com/events/details/how-to-be-cyber-safe-everything-you-wanted-to-know-about-being-scammed-but-did-not-know-who-to-ask-9782
END:VEVENT

END:VCALENDAR
