BEGIN:VCALENDAR
VERSION:2.0
PRODID:-//ChamberMaster//Event Calendar 2.0//EN
METHOD:PUBLISH
X-PUBLISHED-TTL:P3D
REFRESH-INTERVAL:P3D
CALSCALE:GREGORIAN
BEGIN:VEVENT
DTSTART;VALUE=DATE:20170830
DTEND;VALUE=DATE:20170902
TRANSP:TRANSPARENT
X-MICROSOFT-CDO-ALLDAYEVENT:TRUE
SUMMARY:Hurricane Harvey Donation Site
DESCRIPTION:Our office will be accepting Hurricane Harvey supplies today through Friday.  Anything donated will be transported to Texas on Saturday.  They are especially in need of diapers and water.  Please consider helping.  Thank you!
X-ALT-DESC;FMTTYPE=text/html:Our office will be accepting Hurricane Harvey supplies today through Friday.&nbsp\; Anything donated will be transported to Texas on Saturday.&nbsp\; They are especially in need of diapers and water.&nbsp\; Please consider helping.&nbsp\; Thank you!
LOCATION:Amy Gore Waldrop Ins and Fin Svcs\, Inc State Farm 412-C East Williams Street Apex\, NC 27502
UID:e.502.4956
SEQUENCE:3
DTSTAMP:20260424T083543Z
URL:https://business.apexchamber.com/events/details/hurricane-harvey-donation-site-4956
END:VEVENT

END:VCALENDAR
