BEGIN:VCALENDAR
VERSION:2.0
PRODID:-//ChamberMaster//Event Calendar 2.0//EN
METHOD:PUBLISH
X-PUBLISHED-TTL:P3D
REFRESH-INTERVAL:P3D
CALSCALE:GREGORIAN
BEGIN:VEVENT
DTSTART:20171110T160000Z
DTEND:20171110T170000Z
X-MICROSOFT-CDO-ALLDAYEVENT:FALSE
SUMMARY:Kraft YMCA Veterans Ceremony
DESCRIPTION:The Kraft YMCA is having a Veterans Ceremony on November 10th at 11:00 am!
X-ALT-DESC;FMTTYPE=text/html:The Kraft YMCA is having a Veterans Ceremony on November 10th at 11:00 am!
LOCATION:Kraft Family YMCA Outdoor Pavilion 8921 Holly Springs Road\, Apex\, NC 27539
UID:e.502.5046
SEQUENCE:3
DTSTAMP:20260424T041402Z
URL:https://business.apexchamber.com/events/details/kraft-ymca-veterans-ceremony-5046
END:VEVENT

END:VCALENDAR
