BEGIN:VCALENDAR
VERSION:2.0
PRODID:-//ChamberMaster//Event Calendar 2.0//EN
METHOD:PUBLISH
X-PUBLISHED-TTL:P3D
REFRESH-INTERVAL:P3D
CALSCALE:GREGORIAN
BEGIN:VEVENT
DTSTART:20180314T160000Z
DTEND:20180314T173000Z
X-MICROSOFT-CDO-ALLDAYEVENT:FALSE
SUMMARY:Lunch & Learn-2018 Retirement Planning
DESCRIPTION:Do you have questions about the NEW 2018 Long-Term Care Insurance\, Social Security or Tax Decisions? \n\nHave them answered at a FREE lunch & learn with Stratos Wealth Partners. Briant Sikorski will focus on how these changes can effect your retirement planning. \n\n\n\nTopics Discussed\n\n	New Long-Term Care (LTC) Insurance Decisions\n	\n		Traditional LTC\n		LTC/Life Asset-Based Products\n		Annuity/LTC\n		Life Insurance With LTC Rider\n	\n	\n	New Social Security Decisions\n	\n		Restricted application\n		Coordinating benefits\n		Survivor benefits\n		Divorcee benefits\n		Remarriage and Social Security\n	\n	\n	New Tax Decisions\n	\n		Lower tax rates for individuals\, estates and businesses\n		Individual mandate to purchase insurance repealed\n		Changes to deductions\n		Changes to the way businesses are taxed\n		Five income tax planning strategies to consider
X-ALT-DESC;FMTTYPE=text/html:<span style="font-size:16px"><strong>Do you have questions about the NEW 2018&nbsp\;Long-Term Care Insurance\, Social Security or&nbsp\;Tax Decisions?&nbsp\;</strong><br />\n<strong>Have them answered at a FREE lunch &amp\; learn with Stratos Wealth Partners. Briant Sikorski will focus on how these changes can effect your retirement planning.&nbsp\;</strong><br />\n<br />\n<u><strong>Topics Discussed</strong></u></span>\n<ol>\n	<li>New Long-Term Care (LTC) Insurance Decisions\n	<ol style="list-style-type:lower-alpha">\n		<li>Traditional LTC</li>\n		<li>LTC/Life Asset-Based Products</li>\n		<li>Annuity/LTC</li>\n		<li>Life Insurance With LTC Rider</li>\n	</ol>\n	</li>\n	<li>New Social Security Decisions\n	<ol style="list-style-type:lower-alpha">\n		<li>Restricted application</li>\n		<li>Coordinating benefits</li>\n		<li>Survivor benefits</li>\n		<li>Divorcee benefits</li>\n		<li>Remarriage and Social Security</li>\n	</ol>\n	</li>\n	<li>New Tax Decisions\n	<ol style="list-style-type:lower-alpha">\n		<li>Lower tax rates for individuals\, estates and businesses</li>\n		<li>Individual mandate to purchase insurance repealed</li>\n		<li>Changes to deductions</li>\n		<li>Changes to the way businesses are taxed</li>\n		<li>Five income tax planning strategies to consider</li>\n	</ol>\n	</li>\n</ol>\n
LOCATION:10000 Cambridge Village Loop Apex NC 27502
UID:e.502.5205
SEQUENCE:3
DTSTAMP:20260422T061202Z
URL:https://business.apexchamber.com/events/details/lunch-learn-2018-retirement-planning-5205
END:VEVENT

END:VCALENDAR
